BEGIN:VCALENDAR
VERSION:2.0
PRODID:spatie/icalendar-generator
DESCRIPTION:Begivenheder fra Spillemandslauget &amp;Oslash\;stjyderne
X-WR-CALDESC:Begivenheder fra Spillemandslauget &amp;Oslash\;stjyderne
REFRESH-INTERVAL;VALUE=DURATION:PT1440M
X-PUBLISHED-TTL:PT1440M
BEGIN:VTIMEZONE
TZID:Europe/Copenhagen
BEGIN:STANDARD
DTSTART:20251026T030000Z
TZOFFSETFROM:+0200
TZOFFSETTO:+0100
END:STANDARD
BEGIN:DAYLIGHT
DTSTART:20260329T020000Z
TZOFFSETFROM:+0100
TZOFFSETTO:+0200
END:DAYLIGHT
END:VTIMEZONE
BEGIN:VTIMEZONE
TZID:UTC
BEGIN:STANDARD
DTSTART:20250726T104151Z
TZOFFSETFROM:+0000
TZOFFSETTO:+0000
END:STANDARD
END:VTIMEZONE
BEGIN:VEVENT
UID:427-378
DTSTAMP:20260422T104151Z
SUMMARY:Laugsaften
LOCATION:Fritidscenter Skovvang Skovvangsvej 127  Aarhus N  8200
ORGANIZER;CN=Oldermand:MAILTO:oldermand@oestjyderne.dk
DTSTART;TZID=Europe/Copenhagen:20260329T190000
DTEND;TZID=Europe/Copenhagen:20260329T213000
X-ALT-DESC;FMTTYPE=TEXT/HTML:&amp;nbsp\; Vi spiller danseaftenprogrammet fra en
  ende af. Programmet ligger i linket \"Noder og programmer\" i fanebladet 
 \"Programmer\". Danseaftenprogrammet kan også hentes her: Danseaftenprogr
 am . Alle melodier kan hentes i linket \"Noder og programmer\"\, i fanebla
 det \"Alle melodier forår 2026\". I kaffepausen er der Ekstraordinær Gen
 eralforsamling hvor der stemmes om det ændringsforslag til vedtægterne\,
  som&amp;hellip\;
CATEGORIES:Laugsaften
URL;VALUE=URI:https://oestjyderne.dk/begivenheder/laugsaften-91/
METHOD:PUBLISH
END:VEVENT
END:VCALENDAR