BEGIN:VCALENDAR
VERSION:2.0
PRODID:spatie/icalendar-generator
DESCRIPTION:Begivenheder fra Spillemandslauget &amp;Oslash\;stjyderne
X-WR-CALDESC:Begivenheder fra Spillemandslauget &amp;Oslash\;stjyderne
REFRESH-INTERVAL;VALUE=DURATION:PT1440M
X-PUBLISHED-TTL:PT1440M
BEGIN:VTIMEZONE
TZID:Europe/Copenhagen
BEGIN:STANDARD
DTSTART:20241027T030000Z
TZOFFSETFROM:+0200
TZOFFSETTO:+0100
END:STANDARD
BEGIN:DAYLIGHT
DTSTART:20250330T020000Z
TZOFFSETFROM:+0100
TZOFFSETTO:+0200
END:DAYLIGHT
END:VTIMEZONE
BEGIN:VTIMEZONE
TZID:UTC
BEGIN:STANDARD
DTSTART:20250725T163244Z
TZOFFSETFROM:+0000
TZOFFSETTO:+0000
END:STANDARD
END:VTIMEZONE
BEGIN:VEVENT
UID:361-322
DTSTAMP:20260421T163244Z
SUMMARY:Spil langsomt
LOCATION:Fritidscenter Skovvang Skovvangsvej 127  Aarhus N  8200
ORGANIZER;CN=Oldermand:MAILTO:oldermand@oestjyderne.dk
DTSTART;TZID=Europe/Copenhagen:20250216T173000
DTEND;TZID=Europe/Copenhagen:20250216T184500
X-ALT-DESC;FMTTYPE=TEXT/HTML:Vi spiller nedenstående melodier i langsomt t
 empo. Alle melodier ligger i linket \"Noder og programmer\" i fanebladet \
 "Melodier til Forår 2025\". Onkel Hans Polka spilles i version fra hyttet
 uren. Det er den version\, der nu ligger i \"Melodier til Forår 2025\" De
 n smukke menuet Onkel Hans Polka Fisker Vals Den hvide mær &amp;nbsp\;
CATEGORIES:Spil-langsomt
URL;VALUE=URI:https://oestjyderne.dk/begivenheder/spil-langsomt-66/
METHOD:PUBLISH
END:VEVENT
END:VCALENDAR