BEGIN:VCALENDAR
VERSION:2.0
PRODID:spatie/icalendar-generator
DESCRIPTION:Begivenheder fra Spillemandslauget &amp;Oslash\;stjyderne
X-WR-CALDESC:Begivenheder fra Spillemandslauget &amp;Oslash\;stjyderne
REFRESH-INTERVAL;VALUE=DURATION:PT1440M
X-PUBLISHED-TTL:PT1440M
BEGIN:VTIMEZONE
TZID:Europe/Copenhagen
BEGIN:STANDARD
DTSTART:20231029T030000Z
TZOFFSETFROM:+0200
TZOFFSETTO:+0100
END:STANDARD
BEGIN:DAYLIGHT
DTSTART:20240331T020000Z
TZOFFSETFROM:+0100
TZOFFSETTO:+0200
END:DAYLIGHT
BEGIN:STANDARD
DTSTART:20241027T030000Z
TZOFFSETFROM:+0200
TZOFFSETTO:+0100
END:STANDARD
END:VTIMEZONE
BEGIN:VTIMEZONE
TZID:UTC
BEGIN:STANDARD
DTSTART:20250725T200803Z
TZOFFSETFROM:+0000
TZOFFSETTO:+0000
END:STANDARD
END:VTIMEZONE
BEGIN:VEVENT
UID:318-285
DTSTAMP:20260421T200803Z
SUMMARY:Sommerafslutning
LOCATION:Fritidscenter Skovvang Skovvangsvej 127  Aarhus N  8200
ORGANIZER;CN=Oldermand:MAILTO:oldermand@oestjyderne.dk
DTSTART;TZID=Europe/Copenhagen:20240609T173000
DTEND;TZID=Europe/Copenhagen:20240609T213000
X-ALT-DESC;FMTTYPE=TEXT/HTML:Vi gentager succesen fra de sidste mange år: 
 Først spiser vi sammen. Læs nærmere detaljer om tilmelding og menu i Sn
 us nr 189 som udkom søndag den 12. maj. De\, der har lovet at medbringe s
 alater\, har aftalt\, at de medbringer ingredienserne\, og at vi alle i f
 ællesskab hjælper hinanden med at fremstille salaterne samt&amp;hellip\;
CATEGORIES:Danseaften
URL;VALUE=URI:https://oestjyderne.dk/begivenheder/sommerafslutning-3/
METHOD:PUBLISH
END:VEVENT
END:VCALENDAR