BEGIN:VCALENDAR
VERSION:2.0
PRODID:spatie/icalendar-generator
DESCRIPTION:Begivenheder fra Spillemandslauget &amp;Oslash\;stjyderne
X-WR-CALDESC:Begivenheder fra Spillemandslauget &amp;Oslash\;stjyderne
REFRESH-INTERVAL;VALUE=DURATION:PT1440M
X-PUBLISHED-TTL:PT1440M
BEGIN:VTIMEZONE
TZID:Europe/Copenhagen
BEGIN:STANDARD
DTSTART:20231029T030000Z
TZOFFSETFROM:+0200
TZOFFSETTO:+0100
END:STANDARD
BEGIN:DAYLIGHT
DTSTART:20240331T020000Z
TZOFFSETFROM:+0100
TZOFFSETTO:+0200
END:DAYLIGHT
END:VTIMEZONE
BEGIN:VTIMEZONE
TZID:UTC
BEGIN:STANDARD
DTSTART:20250727T114439Z
TZOFFSETFROM:+0000
TZOFFSETTO:+0000
END:STANDARD
END:VTIMEZONE
BEGIN:VEVENT
UID:311-278
DTSTAMP:20260423T114439Z
SUMMARY:Hyttetur
LOCATION:
ORGANIZER;CN=Oldermand:MAILTO:oldermand@oestjyderne.dk
DTSTART;TZID=Europe/Copenhagen;VALUE=DATE:20240202
DTEND;TZID=Europe/Copenhagen;VALUE=DATE:20240205
X-ALT-DESC;FMTTYPE=TEXT/HTML:Laugets årlige hyttetur. Læs nærmere i Snus
 .
CATEGORIES:Danseaften
URL;VALUE=URI:https://oestjyderne.dk/begivenheder/hyttetur-6/
METHOD:PUBLISH
END:VEVENT
END:VCALENDAR