BEGIN:VCALENDAR
VERSION:2.0
PRODID:spatie/icalendar-generator
DESCRIPTION:Begivenheder fra Spillemandslauget &amp;Oslash\;stjyderne
X-WR-CALDESC:Begivenheder fra Spillemandslauget &amp;Oslash\;stjyderne
REFRESH-INTERVAL;VALUE=DURATION:PT1440M
X-PUBLISHED-TTL:PT1440M
BEGIN:VTIMEZONE
TZID:Europe/Copenhagen
BEGIN:DAYLIGHT
DTSTART:20210328T020000Z
TZOFFSETFROM:+0100
TZOFFSETTO:+0200
END:DAYLIGHT
BEGIN:STANDARD
DTSTART:20211031T030000Z
TZOFFSETFROM:+0200
TZOFFSETTO:+0100
END:STANDARD
END:VTIMEZONE
BEGIN:VTIMEZONE
TZID:UTC
BEGIN:STANDARD
DTSTART:20250725T091059Z
TZOFFSETFROM:+0000
TZOFFSETTO:+0000
END:STANDARD
END:VTIMEZONE
BEGIN:VEVENT
UID:176-146
DTSTAMP:20260421T091059Z
SUMMARY:Laugsaften
LOCATION:
ORGANIZER;CN=Oldermand:MAILTO:oldermand@oestjyderne.dk
DTSTART;TZID=Europe/Copenhagen:20210919T190000
DTEND;TZID=Europe/Copenhagen:20210919T213000
X-ALT-DESC;FMTTYPE=TEXT/HTML:Vi øver programmet til Kom folk: DANS. Progra
 mmet kan hentes i linket \"Noder og programmer\"
CATEGORIES:Laugsaften
URL;VALUE=URI:https://oestjyderne.dk/begivenheder/laugsaften-28/
METHOD:PUBLISH
END:VEVENT
END:VCALENDAR