BEGIN:VCALENDAR
VERSION:2.0
PRODID:spatie/icalendar-generator
DESCRIPTION:Begivenheder fra Spillemandslauget &amp;Oslash\;stjyderne
X-WR-CALDESC:Begivenheder fra Spillemandslauget &amp;Oslash\;stjyderne
REFRESH-INTERVAL;VALUE=DURATION:PT1440M
X-PUBLISHED-TTL:PT1440M
BEGIN:VTIMEZONE
TZID:Europe/Copenhagen
BEGIN:STANDARD
DTSTART:20181028T030000Z
TZOFFSETFROM:+0200
TZOFFSETTO:+0100
END:STANDARD
BEGIN:DAYLIGHT
DTSTART:20190331T020000Z
TZOFFSETFROM:+0100
TZOFFSETTO:+0200
END:DAYLIGHT
END:VTIMEZONE
BEGIN:VTIMEZONE
TZID:UTC
BEGIN:STANDARD
DTSTART:20250723T131833Z
TZOFFSETFROM:+0000
TZOFFSETTO:+0000
END:STANDARD
END:VTIMEZONE
BEGIN:VEVENT
UID:16-5
DTSTAMP:20260419T131833Z
SUMMARY:Spillemandsfestival i Aalborg
LOCATION:
ORGANIZER;CN=webmester:MAILTO:stellanielsen68@gmail.com
DTSTART;TZID=Europe/Copenhagen:20190406T123000
DTEND;TZID=Europe/Copenhagen:20190406T230000
X-ALT-DESC;FMTTYPE=TEXT/HTML:Lauget er blevet inviteret til spillemandsfest
 ival i Aalborg. Festivalen starter om eftermiddagen med sammenspil/kursus.
  Så er der middag\, hvorefter der dels er fælles optræden med det\, som
  vi har lært om eftermiddagen og dels afvekslende optræden med de optræ
 dende grupper. Eftermiddagen er under ledelse af Michael Graubæk\, som er
  uddannet fra Folkemusiklinjen på konservatoriet og&amp;hellip\;
CATEGORIES:Danseaften,  Koncert,  Spillemandsfestival
URL;VALUE=URI:https://oestjyderne.dk/begivenheder/spillemandsfestival-i-aal
 borg/
METHOD:PUBLISH
END:VEVENT
END:VCALENDAR