BEGIN:VCALENDAR
VERSION:2.0
PRODID:spatie/icalendar-generator
DESCRIPTION:Begivenheder fra Spillemandslauget &amp;Oslash\;stjyderne
X-WR-CALDESC:Begivenheder fra Spillemandslauget &amp;Oslash\;stjyderne
REFRESH-INTERVAL;VALUE=DURATION:PT1440M
X-PUBLISHED-TTL:PT1440M
BEGIN:VTIMEZONE
TZID:Europe/Copenhagen
BEGIN:DAYLIGHT
DTSTART:20250330T020000Z
TZOFFSETFROM:+0100
TZOFFSETTO:+0200
END:DAYLIGHT
BEGIN:STANDARD
DTSTART:20251026T030000Z
TZOFFSETFROM:+0200
TZOFFSETTO:+0100
END:STANDARD
END:VTIMEZONE
BEGIN:VTIMEZONE
TZID:UTC
BEGIN:STANDARD
DTSTART:20250726T114606Z
TZOFFSETFROM:+0000
TZOFFSETTO:+0000
END:STANDARD
END:VTIMEZONE
BEGIN:VEVENT
UID:392-351
DTSTAMP:20260422T114606Z
SUMMARY:Laugsaften
LOCATION:Fritidscenter Skovvang Skovvangsvej 127  Aarhus N  8200
ORGANIZER;CN=Oldermand:MAILTO:oldermand@oestjyderne.dk
DTSTART;TZID=Europe/Copenhagen:20250831T190000
DTEND;TZID=Europe/Copenhagen:20250831T213000
X-ALT-DESC;FMTTYPE=TEXT/HTML:&amp;nbsp\; Vi øver programmet til Kom folk: DANS
  samt enkelte udvalgte numre fra programmet til danseteltet. Alle melodier
  kan hentes i linket \"Noder og programmer\" i fanebladet \"Alle melodier 
 efterår 2025\" Vi spiller først Gryderup tro\, løsblad Ivans Schottish 
 (II)\, løsblad Circassian circle\, løsblad Gay Gordons\, løsblad Hereft
 er spiller vi programmet til Kom folk: DANS&amp;hellip\;
CATEGORIES:Laugsaften
URL;VALUE=URI:https://oestjyderne.dk/begivenheder/laugsaften-78/
METHOD:PUBLISH
END:VEVENT
END:VCALENDAR