BEGIN:VCALENDAR
VERSION:2.0
PRODID:spatie/icalendar-generator
DESCRIPTION:Begivenheder fra Spillemandslauget &amp;Oslash\;stjyderne
X-WR-CALDESC:Begivenheder fra Spillemandslauget &amp;Oslash\;stjyderne
REFRESH-INTERVAL;VALUE=DURATION:PT1440M
X-PUBLISHED-TTL:PT1440M
BEGIN:VTIMEZONE
TZID:Europe/Copenhagen
BEGIN:STANDARD
DTSTART:20241027T030000Z
TZOFFSETFROM:+0200
TZOFFSETTO:+0100
END:STANDARD
BEGIN:DAYLIGHT
DTSTART:20250330T020000Z
TZOFFSETFROM:+0100
TZOFFSETTO:+0200
END:DAYLIGHT
END:VTIMEZONE
BEGIN:VTIMEZONE
TZID:UTC
BEGIN:STANDARD
DTSTART:20250725T125429Z
TZOFFSETFROM:+0000
TZOFFSETTO:+0000
END:STANDARD
END:VTIMEZONE
BEGIN:VEVENT
UID:360-321
DTSTAMP:20260421T125429Z
SUMMARY:Hyttetur
LOCATION:Gjerrild Vandrerhjem Dyrehavevej 9 Stokkebro Grenaa  8500
ORGANIZER;CN=Oldermand:MAILTO:oldermand@oestjyderne.dk
DTSTART;TZID=Europe/Copenhagen:20250202T000100
DTEND;TZID=Europe/Copenhagen:20250202T130000
X-ALT-DESC;FMTTYPE=TEXT/HTML:Laugets årlige weekendtur. Læs nærmere i Sn
 us nummer 190 side 10
CATEGORIES:Hyttetur
URL;VALUE=URI:https://oestjyderne.dk/begivenheder/hyttetur-9/
METHOD:PUBLISH
END:VEVENT
END:VCALENDAR