BEGIN:VCALENDAR
VERSION:2.0
PRODID:spatie/icalendar-generator
DESCRIPTION:Begivenheder fra Spillemandslauget &amp;Oslash\;stjyderne
X-WR-CALDESC:Begivenheder fra Spillemandslauget &amp;Oslash\;stjyderne
REFRESH-INTERVAL;VALUE=DURATION:PT1440M
X-PUBLISHED-TTL:PT1440M
BEGIN:VTIMEZONE
TZID:Europe/Copenhagen
BEGIN:DAYLIGHT
DTSTART:20240331T020000Z
TZOFFSETFROM:+0100
TZOFFSETTO:+0200
END:DAYLIGHT
BEGIN:STANDARD
DTSTART:20241027T030000Z
TZOFFSETFROM:+0200
TZOFFSETTO:+0100
END:STANDARD
BEGIN:DAYLIGHT
DTSTART:20250330T020000Z
TZOFFSETFROM:+0100
TZOFFSETTO:+0200
END:DAYLIGHT
END:VTIMEZONE
BEGIN:VTIMEZONE
TZID:UTC
BEGIN:STANDARD
DTSTART:20250727T120422Z
TZOFFSETFROM:+0000
TZOFFSETTO:+0000
END:STANDARD
END:VTIMEZONE
BEGIN:VEVENT
UID:340-305
DTSTAMP:20260423T120422Z
SUMMARY:Laugsaften
LOCATION:Fritidscenter Skovvang Skovvangsvej 127  Aarhus N  8200
ORGANIZER;CN=Oldermand:MAILTO:oldermand@oestjyderne.dk
DTSTART;TZID=Europe/Copenhagen:20241027T190000
DTEND;TZID=Europe/Copenhagen:20241027T213000
X-ALT-DESC;FMTTYPE=TEXT/HTML:Vi spiller danseaftenprogrammet forfra. Progra
 mmet kan hentes i linket \"Noder og programmer\" i fanebladet \"Programmer
 \". Alle melodier kan hentes i samme link\, men i fanebladet \"Efterår 20
 24\"
CATEGORIES:Laugsaften
URL;VALUE=URI:https://oestjyderne.dk/begivenheder/laugsaften-69/
METHOD:PUBLISH
END:VEVENT
END:VCALENDAR