BEGIN:VCALENDAR
VERSION:2.0
PRODID:spatie/icalendar-generator
DESCRIPTION:Begivenheder fra Spillemandslauget &amp;Oslash\;stjyderne
X-WR-CALDESC:Begivenheder fra Spillemandslauget &amp;Oslash\;stjyderne
REFRESH-INTERVAL;VALUE=DURATION:PT1440M
X-PUBLISHED-TTL:PT1440M
BEGIN:VTIMEZONE
TZID:Europe/Copenhagen
BEGIN:DAYLIGHT
DTSTART:20240331T020000Z
TZOFFSETFROM:+0100
TZOFFSETTO:+0200
END:DAYLIGHT
BEGIN:STANDARD
DTSTART:20241027T030000Z
TZOFFSETFROM:+0200
TZOFFSETTO:+0100
END:STANDARD
END:VTIMEZONE
BEGIN:VTIMEZONE
TZID:UTC
BEGIN:STANDARD
DTSTART:20250725T085826Z
TZOFFSETFROM:+0000
TZOFFSETTO:+0000
END:STANDARD
END:VTIMEZONE
BEGIN:VEVENT
UID:334-299
DTSTAMP:20260421T085826Z
SUMMARY:Øvning til Præstø
LOCATION:Den sorte bjælkehytte Viborgvej 53  Aarhus V  8210
ORGANIZER;CN=Oldermand:MAILTO:oldermand@oestjyderne.dk
DTSTART;TZID=Europe/Copenhagen:20240730T190000
DTEND;TZID=Europe/Copenhagen:20240730T213000
X-ALT-DESC;FMTTYPE=TEXT/HTML:OBS: Det foregår på Viborgvej 53\, altså vo
 res \"gamle\" spillested. Vi øver repertoiret til \"Musik over Præstø F
 jord\". Programmet hedder Program til Præstø. Du kan klikke direkte på 
 det\, eller hente det i linket \"Noder og programmer\" i fanebladet Progra
 mmer. Vi spiller det fra en ende af\, og satser på at nå at spille alle&amp;
 hellip\;
CATEGORIES:Laugsaften
URL;VALUE=URI:https://oestjyderne.dk/begivenheder/oevning-til-praestoe-2/
METHOD:PUBLISH
END:VEVENT
END:VCALENDAR