BEGIN:VCALENDAR
VERSION:2.0
PRODID:spatie/icalendar-generator
DESCRIPTION:Begivenheder fra Spillemandslauget &amp;Oslash\;stjyderne
X-WR-CALDESC:Begivenheder fra Spillemandslauget &amp;Oslash\;stjyderne
REFRESH-INTERVAL;VALUE=DURATION:PT1440M
X-PUBLISHED-TTL:PT1440M
BEGIN:VTIMEZONE
TZID:Europe/Copenhagen
BEGIN:STANDARD
DTSTART:20231029T030000Z
TZOFFSETFROM:+0200
TZOFFSETTO:+0100
END:STANDARD
BEGIN:DAYLIGHT
DTSTART:20240331T020000Z
TZOFFSETFROM:+0100
TZOFFSETTO:+0200
END:DAYLIGHT
END:VTIMEZONE
BEGIN:VTIMEZONE
TZID:UTC
BEGIN:STANDARD
DTSTART:20250725T104257Z
TZOFFSETFROM:+0000
TZOFFSETTO:+0000
END:STANDARD
END:VTIMEZONE
BEGIN:VEVENT
UID:297-264
DTSTAMP:20260421T104257Z
SUMMARY:Spil langsomt
LOCATION:Den sorte bjælkehytte Viborgvej 53  Aarhus V  8210
ORGANIZER;CN=Oldermand:MAILTO:oldermand@oestjyderne.dk
DTSTART;TZID=Europe/Copenhagen:20240107T173000
DTEND;TZID=Europe/Copenhagen:20240107T184500
X-ALT-DESC;FMTTYPE=TEXT/HTML:Vi øver nogle af aftenens melodier i langsomt
  tempo. Alle melodier kan hentes i linket \"Noder og programmer\" i fanebl
 adet \"Forår 2024\" Den halve kæde 1979 side 45 Englis 1998 side 62 Kink
 evals 1997 side 53 Eventuelt\, hvis vi når det: Fisken ligger på fladen 
 strand\, jubihæfte side 31  
CATEGORIES:Spil-langsomt
URL;VALUE=URI:https://oestjyderne.dk/begivenheder/spil-langsomt-53/
METHOD:PUBLISH
END:VEVENT
END:VCALENDAR