BEGIN:VCALENDAR
VERSION:2.0
PRODID:spatie/icalendar-generator
DESCRIPTION:Begivenheder fra Spillemandslauget &amp;Oslash\;stjyderne
X-WR-CALDESC:Begivenheder fra Spillemandslauget &amp;Oslash\;stjyderne
REFRESH-INTERVAL;VALUE=DURATION:PT1440M
X-PUBLISHED-TTL:PT1440M
BEGIN:VTIMEZONE
TZID:Europe/Copenhagen
BEGIN:STANDARD
DTSTART:20221030T030000Z
TZOFFSETFROM:+0200
TZOFFSETTO:+0100
END:STANDARD
BEGIN:DAYLIGHT
DTSTART:20230326T020000Z
TZOFFSETFROM:+0100
TZOFFSETTO:+0200
END:DAYLIGHT
BEGIN:STANDARD
DTSTART:20231029T030000Z
TZOFFSETFROM:+0200
TZOFFSETTO:+0100
END:STANDARD
END:VTIMEZONE
BEGIN:VTIMEZONE
TZID:UTC
BEGIN:STANDARD
DTSTART:20250727T100411Z
TZOFFSETFROM:+0000
TZOFFSETTO:+0000
END:STANDARD
END:VTIMEZONE
BEGIN:VEVENT
UID:271-240
DTSTAMP:20260423T100411Z
SUMMARY:Koncert i Botanisk Have
LOCATION:Den sorte bjælkehytte Viborgvej 53  Aarhus V  8210
ORGANIZER;CN=Oldermand:MAILTO:oldermand@oestjyderne.dk
DTSTART;TZID=Europe/Copenhagen:20230627T160000
DTEND;TZID=Europe/Copenhagen:20230627T170000
X-ALT-DESC;FMTTYPE=TEXT/HTML:Vi spiller en koncert i Botanisk Have i anledn
 ing af havens 150 års jubilæum. Vi spiller klokken 16 - 17 og lokalitete
 n i Botanisk Have er: Peder Holms Vej\, græsplænen over for roserne. Vi 
 spiller det program der hedder: Spilleprogram Sommerarrangementer 2023
CATEGORIES:Koncert
URL;VALUE=URI:https://oestjyderne.dk/begivenheder/koncert-i-botanisk-have/
METHOD:PUBLISH
END:VEVENT
END:VCALENDAR