BEGIN:VCALENDAR
VERSION:2.0
PRODID:spatie/icalendar-generator
DESCRIPTION:Begivenheder fra Spillemandslauget &amp;Oslash\;stjyderne
X-WR-CALDESC:Begivenheder fra Spillemandslauget &amp;Oslash\;stjyderne
REFRESH-INTERVAL;VALUE=DURATION:PT1440M
X-PUBLISHED-TTL:PT1440M
BEGIN:VTIMEZONE
TZID:Europe/Copenhagen
BEGIN:STANDARD
DTSTART:20221030T030000Z
TZOFFSETFROM:+0200
TZOFFSETTO:+0100
END:STANDARD
BEGIN:DAYLIGHT
DTSTART:20230326T020000Z
TZOFFSETFROM:+0100
TZOFFSETTO:+0200
END:DAYLIGHT
BEGIN:STANDARD
DTSTART:20231029T030000Z
TZOFFSETFROM:+0200
TZOFFSETTO:+0100
END:STANDARD
END:VTIMEZONE
BEGIN:VTIMEZONE
TZID:UTC
BEGIN:STANDARD
DTSTART:20250726T121126Z
TZOFFSETFROM:+0000
TZOFFSETTO:+0000
END:STANDARD
END:VTIMEZONE
BEGIN:VEVENT
UID:264-233
DTSTAMP:20260422T121126Z
SUMMARY:Sommerafslutning
LOCATION:Den sorte bjælkehytte Viborgvej 53  Aarhus V  8210
ORGANIZER;CN=Oldermand:MAILTO:oldermand@oestjyderne.dk
DTSTART;TZID=Europe/Copenhagen:20230611T180000
DTEND;TZID=Europe/Copenhagen:20230611T213000
X-ALT-DESC;FMTTYPE=TEXT/HTML:Vi gentager konceptet fra tidligere års somme
 rafslutning. Vi mødes klokken 18\, hvor der vil blive tændt op i grillen
 . Vi hjælper hinanden med at dække bord. Christian har indkøbt et stør
 re antal velsmagende gourmetpølser der bliver grillet. På den seneste la
 ugsaften var der fire der meldte sig til at lave salater\, som vi spiser t
 il.&amp;hellip\;
CATEGORIES:Laugsaften
URL;VALUE=URI:https://oestjyderne.dk/begivenheder/sommerafslutning-2/
METHOD:PUBLISH
END:VEVENT
END:VCALENDAR