BEGIN:VCALENDAR
VERSION:2.0
PRODID:spatie/icalendar-generator
DESCRIPTION:Begivenheder fra Spillemandslauget &amp;Oslash\;stjyderne
X-WR-CALDESC:Begivenheder fra Spillemandslauget &amp;Oslash\;stjyderne
REFRESH-INTERVAL;VALUE=DURATION:PT1440M
X-PUBLISHED-TTL:PT1440M
BEGIN:VTIMEZONE
TZID:Europe/Copenhagen
BEGIN:STANDARD
DTSTART:20221030T030000Z
TZOFFSETFROM:+0200
TZOFFSETTO:+0100
END:STANDARD
BEGIN:DAYLIGHT
DTSTART:20230326T020000Z
TZOFFSETFROM:+0100
TZOFFSETTO:+0200
END:DAYLIGHT
END:VTIMEZONE
BEGIN:VTIMEZONE
TZID:UTC
BEGIN:STANDARD
DTSTART:20250725T141852Z
TZOFFSETFROM:+0000
TZOFFSETTO:+0000
END:STANDARD
END:VTIMEZONE
BEGIN:VEVENT
UID:250-219
DTSTAMP:20260421T141852Z
SUMMARY:Spil langsomt
LOCATION:Den sorte bjælkehytte Viborgvej 53  Aarhus V  8210
ORGANIZER;CN=Oldermand:MAILTO:oldermand@oestjyderne.dk
DTSTART;TZID=Europe/Copenhagen:20230305T173000
DTEND;TZID=Europe/Copenhagen:20230305T184500
X-ALT-DESC;FMTTYPE=TEXT/HTML:Vi spiller nogle af aftenens melodier i langso
 mt tempo. Alle melodier kan linket \"Noder og programmer\" i fanebladet \"
 Noder forår 2023\" eller fanebladet \"Melodier til koncert\". Vi spiller 
 følgende: Brudemarch fra Himmerland 1 side 48 i jubilæumssamling Brudema
 rch fra Himmerland 2 side 49 i jubilæumssamling Øl Peter side 18 i jubil
 æumssamling Labri side 8 i&amp;hellip\;
CATEGORIES:Spil-langsomt
URL;VALUE=URI:https://oestjyderne.dk/begivenheder/spil-langsomt-43/
METHOD:PUBLISH
END:VEVENT
END:VCALENDAR