BEGIN:VCALENDAR
VERSION:2.0
PRODID:spatie/icalendar-generator
DESCRIPTION:Begivenheder fra Spillemandslauget &amp;Oslash\;stjyderne
X-WR-CALDESC:Begivenheder fra Spillemandslauget &amp;Oslash\;stjyderne
REFRESH-INTERVAL;VALUE=DURATION:PT1440M
X-PUBLISHED-TTL:PT1440M
BEGIN:VTIMEZONE
TZID:Europe/Copenhagen
BEGIN:STANDARD
DTSTART:20221030T030000Z
TZOFFSETFROM:+0200
TZOFFSETTO:+0100
END:STANDARD
BEGIN:DAYLIGHT
DTSTART:20230326T020000Z
TZOFFSETFROM:+0100
TZOFFSETTO:+0200
END:DAYLIGHT
END:VTIMEZONE
BEGIN:VTIMEZONE
TZID:UTC
BEGIN:STANDARD
DTSTART:20250725T122132Z
TZOFFSETFROM:+0000
TZOFFSETTO:+0000
END:STANDARD
END:VTIMEZONE
BEGIN:VEVENT
UID:249-218
DTSTAMP:20260421T122132Z
SUMMARY:Laugsaften
LOCATION:Den sorte bjælkehytte Viborgvej 53  Aarhus V  8210
ORGANIZER;CN=Oldermand:MAILTO:oldermand@oestjyderne.dk
DTSTART;TZID=Europe/Copenhagen:20230219T190000
DTEND;TZID=Europe/Copenhagen:20230219T213000
X-ALT-DESC;FMTTYPE=TEXT/HTML:Vi spiller følgende melodier\, der alle kan h
 entes i linket \"Noder og programmer\" i fanebladet \"Forår 2023\, noder\
 " J.P. Larsens mazurka (fra hytteturen) Baltzar Sørens vestenom (fra hytt
 eturen) Niels Krahs vals (fra hytteturen) Den røde lue (til andenstemmesp
 illere: Vi spiller Ivan Amtofts arrangement. Noden på hjemmesiden er hans
  arrangement) Bømer Dands\, løsblad 1966-sekstur\, 1992/77 Engelsk&amp;helli
 p\;
CATEGORIES:Laugsaften
URL;VALUE=URI:https://oestjyderne.dk/begivenheder/laugsaften-47/
METHOD:PUBLISH
END:VEVENT
END:VCALENDAR