BEGIN:VCALENDAR
VERSION:2.0
PRODID:spatie/icalendar-generator
DESCRIPTION:Begivenheder fra Spillemandslauget &amp;Oslash\;stjyderne
X-WR-CALDESC:Begivenheder fra Spillemandslauget &amp;Oslash\;stjyderne
REFRESH-INTERVAL;VALUE=DURATION:PT1440M
X-PUBLISHED-TTL:PT1440M
BEGIN:VTIMEZONE
TZID:Europe/Copenhagen
BEGIN:STANDARD
DTSTART:20221030T030000Z
TZOFFSETFROM:+0200
TZOFFSETTO:+0100
END:STANDARD
BEGIN:DAYLIGHT
DTSTART:20230326T020000Z
TZOFFSETFROM:+0100
TZOFFSETTO:+0200
END:DAYLIGHT
END:VTIMEZONE
BEGIN:VTIMEZONE
TZID:UTC
BEGIN:STANDARD
DTSTART:20250725T103901Z
TZOFFSETFROM:+0000
TZOFFSETTO:+0000
END:STANDARD
END:VTIMEZONE
BEGIN:VEVENT
UID:248-217
DTSTAMP:20260421T103901Z
SUMMARY:Spil langsomt
LOCATION:Den sorte bjælkehytte Viborgvej 53  Aarhus V  8210
ORGANIZER;CN=Oldermand:MAILTO:oldermand@oestjyderne.dk
DTSTART;TZID=Europe/Copenhagen:20230219T173000
DTEND;TZID=Europe/Copenhagen:20230219T184500
X-ALT-DESC;FMTTYPE=TEXT/HTML:Vi spiller nedenstående melodier i langsomt t
 empo. Alle melodier kan hentes i linket \"Noder og programmer\" i linket \
 "Forår 2023\, noder\" J.P. Larsens mazurka (fra hytteturen) Baltzar Søre
 ns vestenom (fra hytteturen) Niels Krahs vals (fra hytteturen) Den røde l
 ue (til andenstemmespillere: Vi spiller Ivan Amtofts arrangement. Noden p
 å hjemmesiden er hans arrangement)
CATEGORIES:Spil-langsomt
URL;VALUE=URI:https://oestjyderne.dk/begivenheder/spil-langsomt-42/
METHOD:PUBLISH
END:VEVENT
END:VCALENDAR