BEGIN:VCALENDAR
VERSION:2.0
PRODID:spatie/icalendar-generator
DESCRIPTION:Begivenheder fra Spillemandslauget &amp;Oslash\;stjyderne
X-WR-CALDESC:Begivenheder fra Spillemandslauget &amp;Oslash\;stjyderne
REFRESH-INTERVAL;VALUE=DURATION:PT1440M
X-PUBLISHED-TTL:PT1440M
BEGIN:VTIMEZONE
TZID:Europe/Copenhagen
BEGIN:STANDARD
DTSTART:20221030T030000Z
TZOFFSETFROM:+0200
TZOFFSETTO:+0100
END:STANDARD
BEGIN:DAYLIGHT
DTSTART:20230326T020000Z
TZOFFSETFROM:+0100
TZOFFSETTO:+0200
END:DAYLIGHT
END:VTIMEZONE
BEGIN:VTIMEZONE
TZID:UTC
BEGIN:STANDARD
DTSTART:20250726T102531Z
TZOFFSETFROM:+0000
TZOFFSETTO:+0000
END:STANDARD
END:VTIMEZONE
BEGIN:VEVENT
UID:240-209
DTSTAMP:20260422T102531Z
SUMMARY:Spil langsomt
LOCATION:Den sorte bjælkehytte Viborgvej 53  Aarhus V  8210
ORGANIZER;CN=Oldermand:MAILTO:oldermand@oestjyderne.dk
DTSTART;TZID=Europe/Copenhagen:20230108T173000
DTEND;TZID=Europe/Copenhagen:20230108T184500
X-ALT-DESC;FMTTYPE=TEXT/HTML:Vi spiller\, i langsomt tempo\, de fire melodi
 er\, der fik flest stemmer i melodiafstemningen. Alle melodier ligger i li
 nket \"Noder og programmer\" i fanebladet \"Forår 2023\, noder\". Melodie
 rne er: Maguire and Paterson 1995/4 Gammelhambo. Kenneth Krak kursus Labri
 . Side 8 i Jubilæumssamling Ivans Schottish (II)\, Hyttetur 2022
CATEGORIES:Spil-langsomt
URL;VALUE=URI:https://oestjyderne.dk/begivenheder/spil-langsomt-40/
METHOD:PUBLISH
END:VEVENT
END:VCALENDAR