BEGIN:VCALENDAR
VERSION:2.0
PRODID:spatie/icalendar-generator
DESCRIPTION:Begivenheder fra Spillemandslauget &amp;Oslash\;stjyderne
X-WR-CALDESC:Begivenheder fra Spillemandslauget &amp;Oslash\;stjyderne
REFRESH-INTERVAL;VALUE=DURATION:PT1440M
X-PUBLISHED-TTL:PT1440M
BEGIN:VTIMEZONE
TZID:Europe/Copenhagen
BEGIN:DAYLIGHT
DTSTART:20220327T020000Z
TZOFFSETFROM:+0100
TZOFFSETTO:+0200
END:DAYLIGHT
BEGIN:STANDARD
DTSTART:20221030T030000Z
TZOFFSETFROM:+0200
TZOFFSETTO:+0100
END:STANDARD
BEGIN:DAYLIGHT
DTSTART:20230326T020000Z
TZOFFSETFROM:+0100
TZOFFSETTO:+0200
END:DAYLIGHT
END:VTIMEZONE
BEGIN:VTIMEZONE
TZID:UTC
BEGIN:STANDARD
DTSTART:20250726T151555Z
TZOFFSETFROM:+0000
TZOFFSETTO:+0000
END:STANDARD
END:VTIMEZONE
BEGIN:VEVENT
UID:233-202
DTSTAMP:20260422T151555Z
SUMMARY:Spil langsomt
LOCATION:Den sorte bjælkehytte Viborgvej 53  Aarhus V  8210
ORGANIZER;CN=Oldermand:MAILTO:oldermand@oestjyderne.dk
DTSTART;TZID=Europe/Copenhagen:20221113T173000
DTEND;TZID=Europe/Copenhagen:20221113T184500
X-ALT-DESC;FMTTYPE=TEXT/HTML:Vi spiller de melodier\, som Mette Katrine med
 bringer til kurset den 26. november. Der er tre melodier: en polka\, en va
 ls og en mazurka. Bemærk\, at der er særlige klarinetnoder og basnoder. 
 Den ene af melodierne er en Tinuspolka. Det er IKKE den samme\, som vi spi
 ller i forvejen. Vejledalsvalsen indeholder en reprise\, hvor der&amp;hellip\;
CATEGORIES:Spil-langsomt
URL;VALUE=URI:https://oestjyderne.dk/begivenheder/spil-langsomt-39/
METHOD:PUBLISH
END:VEVENT
END:VCALENDAR