BEGIN:VCALENDAR
VERSION:2.0
PRODID:spatie/icalendar-generator
DESCRIPTION:Begivenheder fra Spillemandslauget &amp;Oslash\;stjyderne
X-WR-CALDESC:Begivenheder fra Spillemandslauget &amp;Oslash\;stjyderne
REFRESH-INTERVAL;VALUE=DURATION:PT1440M
X-PUBLISHED-TTL:PT1440M
BEGIN:VTIMEZONE
TZID:Europe/Copenhagen
BEGIN:DAYLIGHT
DTSTART:20220327T020000Z
TZOFFSETFROM:+0100
TZOFFSETTO:+0200
END:DAYLIGHT
BEGIN:STANDARD
DTSTART:20221030T030000Z
TZOFFSETFROM:+0200
TZOFFSETTO:+0100
END:STANDARD
BEGIN:DAYLIGHT
DTSTART:20230326T020000Z
TZOFFSETFROM:+0100
TZOFFSETTO:+0200
END:DAYLIGHT
END:VTIMEZONE
BEGIN:VTIMEZONE
TZID:UTC
BEGIN:STANDARD
DTSTART:20250726T133538Z
TZOFFSETFROM:+0000
TZOFFSETTO:+0000
END:STANDARD
END:VTIMEZONE
BEGIN:VEVENT
UID:232-201
DTSTAMP:20260422T133538Z
SUMMARY:Laugsaften
LOCATION:
ORGANIZER;CN=Oldermand:MAILTO:oldermand@oestjyderne.dk
DTSTART;TZID=Europe/Copenhagen:20221030T190000
DTEND;TZID=Europe/Copenhagen:20221030T213000
X-ALT-DESC;FMTTYPE=TEXT/HTML:Ove Andersen er gæsteforspiller. Temaet er go
 de ideer til\, hvordan man løsriver sig fra noderne når man spiller melo
 dier\, som man har vænnet sig til at spille efter noder. Sidst\, vi havde
  besøg af Ove\, handlede det om at lære nye melodier efter gehør\, men 
 nu drejer det altså om at spille melodier\, som man&amp;hellip\;
CATEGORIES:Laugsaften,  Gæsteforspiller
URL;VALUE=URI:https://oestjyderne.dk/begivenheder/laugsaften-43/
METHOD:PUBLISH
END:VEVENT
END:VCALENDAR