BEGIN:VCALENDAR
VERSION:2.0
PRODID:spatie/icalendar-generator
DESCRIPTION:Begivenheder fra Spillemandslauget &amp;Oslash\;stjyderne
X-WR-CALDESC:Begivenheder fra Spillemandslauget &amp;Oslash\;stjyderne
REFRESH-INTERVAL;VALUE=DURATION:PT1440M
X-PUBLISHED-TTL:PT1440M
BEGIN:VTIMEZONE
TZID:Europe/Copenhagen
BEGIN:DAYLIGHT
DTSTART:20220327T020000Z
TZOFFSETFROM:+0100
TZOFFSETTO:+0200
END:DAYLIGHT
BEGIN:STANDARD
DTSTART:20221030T030000Z
TZOFFSETFROM:+0200
TZOFFSETTO:+0100
END:STANDARD
BEGIN:DAYLIGHT
DTSTART:20230326T020000Z
TZOFFSETFROM:+0100
TZOFFSETTO:+0200
END:DAYLIGHT
END:VTIMEZONE
BEGIN:VTIMEZONE
TZID:UTC
BEGIN:STANDARD
DTSTART:20250726T114606Z
TZOFFSETFROM:+0000
TZOFFSETTO:+0000
END:STANDARD
END:VTIMEZONE
BEGIN:VEVENT
UID:231-200
DTSTAMP:20260422T114606Z
SUMMARY:Spil langsomt
LOCATION:
ORGANIZER;CN=Oldermand:MAILTO:oldermand@oestjyderne.dk
DTSTART;TZID=Europe/Copenhagen:20221030T173000
DTEND;TZID=Europe/Copenhagen:20221030T184500
X-ALT-DESC;FMTTYPE=TEXT/HTML:Vi spiller nedenstående melodier\, der alle k
 an hentes i linket \"Noder og programmer\": Ivans schottish (II). Hyttetur
  2022 Skæve Thorvald. 1984/24 Russisk kontra. Jubilæumssamling side 84 H
 vis vi når det: Lørdag aften rejnlænder. Jubilæumssamling side 10 &amp;nbs
 p\;
CATEGORIES:Spil-langsomt
URL;VALUE=URI:https://oestjyderne.dk/begivenheder/spil-langsomt-38/
METHOD:PUBLISH
END:VEVENT
END:VCALENDAR